BEGIN:VCALENDAR
VERSION:2.0
PRODID:-//Royal Aero Club - ECPv4.7.3//NONSGML v1.0//EN
CALSCALE:GREGORIAN
METHOD:PUBLISH
X-WR-CALNAME:Royal Aero Club
X-ORIGINAL-URL:https://www.royalaeroclubwa.com.au
X-WR-CALDESC:Events for Royal Aero Club
BEGIN:VEVENT
DTSTART;TZID=Australia/Perth:20190226T180000
DTEND;TZID=Australia/Perth:20190226T210000
DTSTAMP:20190228T221133
CREATED:20190128T235501Z
LAST-MODIFIED:20190128T235501Z
UID:3307-1551204000-1551214800@www.royalaeroclubwa.com.au
SUMMARY:PPL Night Theory Courses
DESCRIPTION:\nPPL Systems: Feb 5\, 7 & 12. PPL Meteorology: Feb 14\, 19 & 21. PPL Human Factors: Feb 26\, 28 & Mar 5. PPL Flight Performance & Loading: Mar 7\, 12 & 14. PPL Aerodynamics: Mar 19\, 21 & 26. PPL Navigation: Mar 28\, Apr 2 & 4. \n
URL:https://www.royalaeroclubwa.com.au/event/ppl-night-theory-courses/2019-02-26/
LOCATION:Royal Aero Club of WA\, 41 Eagle Drive\, Jandakot\, Western Australia\, 6164\, Australia
CATEGORIES:Theory Training
END:VEVENT
BEGIN:VEVENT
DTSTART;TZID=Australia/Perth:20190228T180000
DTEND;TZID=Australia/Perth:20190228T210000
DTSTAMP:20190228T221133
CREATED:20190128T235501Z
LAST-MODIFIED:20190128T235501Z
UID:3308-1551376800-1551387600@www.royalaeroclubwa.com.au
SUMMARY:PPL Night Theory Courses
DESCRIPTION:\nPPL Systems: Feb 5\, 7 & 12. PPL Meteorology: Feb 14\, 19 & 21. PPL Human Factors: Feb 26\, 28 & Mar 5. PPL Flight Performance & Loading: Mar 7\, 12 & 14. PPL Aerodynamics: Mar 19\, 21 & 26. PPL Navigation: Mar 28\, Apr 2 & 4. \n
URL:https://www.royalaeroclubwa.com.au/event/ppl-night-theory-courses/2019-02-28/
LOCATION:Royal Aero Club of WA\, 41 Eagle Drive\, Jandakot\, Western Australia\, 6164\, Australia
CATEGORIES:Theory Training
END:VEVENT
BEGIN:VEVENT
DTSTART;TZID=Australia/Perth:20190301T153000
DTEND;TZID=Australia/Perth:20190301T173000
DTSTAMP:20190228T221133
CREATED:20190109T235108Z
LAST-MODIFIED:20190110T021648Z
UID:3163-1551454200-1551461400@www.royalaeroclubwa.com.au
SUMMARY:Formation Fridays
DESCRIPTION:\nThe ‘Formicators’ invite all pilots to join us for a Formation Flight. Non-endorsed pilots can fly with an Instructor to get a feel for the fun! Briefing 1545 – Departure 1615.Contact Gary Evans: 0418 919 155 fo get involved! \n
URL:https://www.royalaeroclubwa.com.au/event/formation-fridays-3/2019-03-01/
LOCATION:Royal Aero Club of WA\, 41 Eagle Drive\, Jandakot\, Western Australia\, 6164\, Australia
CATEGORIES:Club Social Event
END:VEVENT
BEGIN:VEVENT
DTSTART;TZID=Australia/Perth:20190305T180000
DTEND;TZID=Australia/Perth:20190305T210000
DTSTAMP:20190228T221133
CREATED:20190128T235501Z
LAST-MODIFIED:20190128T235501Z
UID:3309-1551808800-1551819600@www.royalaeroclubwa.com.au
SUMMARY:PPL Night Theory Courses
DESCRIPTION:\nPPL Systems: Feb 5\, 7 & 12. PPL Meteorology: Feb 14\, 19 & 21. PPL Human Factors: Feb 26\, 28 & Mar 5. PPL Flight Performance & Loading: Mar 7\, 12 & 14. PPL Aerodynamics: Mar 19\, 21 & 26. PPL Navigation: Mar 28\, Apr 2 & 4. \n
URL:https://www.royalaeroclubwa.com.au/event/ppl-night-theory-courses/2019-03-05/
LOCATION:Royal Aero Club of WA\, 41 Eagle Drive\, Jandakot\, Western Australia\, 6164\, Australia
CATEGORIES:Theory Training
END:VEVENT
BEGIN:VEVENT
DTSTART;TZID=Australia/Perth:20190307T180000
DTEND;TZID=Australia/Perth:20190307T210000
DTSTAMP:20190228T221133
CREATED:20190128T235501Z
LAST-MODIFIED:20190128T235501Z
UID:3310-1551981600-1551992400@www.royalaeroclubwa.com.au
SUMMARY:PPL Night Theory Courses
DESCRIPTION:\nPPL Systems: Feb 5\, 7 & 12. PPL Meteorology: Feb 14\, 19 & 21. PPL Human Factors: Feb 26\, 28 & Mar 5. PPL Flight Performance & Loading: Mar 7\, 12 & 14. PPL Aerodynamics: Mar 19\, 21 & 26. PPL Navigation: Mar 28\, Apr 2 & 4. \n
URL:https://www.royalaeroclubwa.com.au/event/ppl-night-theory-courses/2019-03-07/
LOCATION:Royal Aero Club of WA\, 41 Eagle Drive\, Jandakot\, Western Australia\, 6164\, Australia
CATEGORIES:Theory Training
END:VEVENT
BEGIN:VEVENT
DTSTART;TZID=Australia/Perth:20190309T100000
DTEND;TZID=Australia/Perth:20190309T160000
DTSTAMP:20190228T221133
CREATED:20181118T033645Z
LAST-MODIFIED:20181118T033732Z
UID:2892-1552125600-1552147200@www.royalaeroclubwa.com.au
SUMMARY:Free Learn to Fly Seminars
DESCRIPTION:\n\nLearn everything there is to know about becoming a pilot at our FREE learn to fly seminars. This event will provide key information on the steps involved in attaining a Pilots Licence as well as a tour of the club\, aviation school and aircraft. \n\n\nCommercial Pilot Licence Seminar: 10AM & 2PM. Private Pilot Licence Seminar: 12PM\n\n
URL:https://www.royalaeroclubwa.com.au/event/free-learn-to-fly-seminars/
LOCATION:Royal Aero Club of WA\, 41 Eagle Drive\, Jandakot\, Western Australia\, 6164\, Australia
CATEGORIES:Open Day
END:VEVENT
BEGIN:VEVENT
DTSTART;TZID=Australia/Perth:20190310T083000
DTEND;TZID=Australia/Perth:20190310T100000
DTSTAMP:20190228T221133
CREATED:20190218T024843Z
LAST-MODIFIED:20190218T024843Z
UID:3388-1552206600-1552212000@www.royalaeroclubwa.com.au
SUMMARY:YMUL Precision Circuit Competition
DESCRIPTION:\nAccuracy is the name of the game; fly the most accurate circuit you can\, then land as close as possible to the nominated “spot”.\nAnyone can come along\, non pilots through to CPL – you don’t have to be current & it all counts in your log book! \n
URL:https://www.royalaeroclubwa.com.au/event/ymul-precision-circuit-competition/
LOCATION:Murrayfield Aerodrome\, Lakes Road\, Mandurah\, WA\, 6207\, Australia
GEO:-32.5169933;115.888087
X-APPLE-STRUCTURED-LOCATION;VALUE=URI;X-ADDRESS=Murrayfield Aerodrome Lakes Road Mandurah WA 6207 Australia;X-APPLE-RADIUS=500;X-TITLE=Lakes Road:geo:115.888087,-32.5169933
CATEGORIES:Club Flying Competition,Club Social Event
END:VEVENT
BEGIN:VEVENT
DTSTART;TZID=Australia/Perth:20190312T180000
DTEND;TZID=Australia/Perth:20190312T210000
DTSTAMP:20190228T221133
CREATED:20190128T235501Z
LAST-MODIFIED:20190128T235501Z
UID:3311-1552413600-1552424400@www.royalaeroclubwa.com.au
SUMMARY:PPL Night Theory Courses
DESCRIPTION:\nPPL Systems: Feb 5\, 7 & 12. PPL Meteorology: Feb 14\, 19 & 21. PPL Human Factors: Feb 26\, 28 & Mar 5. PPL Flight Performance & Loading: Mar 7\, 12 & 14. PPL Aerodynamics: Mar 19\, 21 & 26. PPL Navigation: Mar 28\, Apr 2 & 4. \n
URL:https://www.royalaeroclubwa.com.au/event/ppl-night-theory-courses/2019-03-12/
LOCATION:Royal Aero Club of WA\, 41 Eagle Drive\, Jandakot\, Western Australia\, 6164\, Australia
CATEGORIES:Theory Training
END:VEVENT
BEGIN:VEVENT
DTSTART;TZID=Australia/Perth:20190314T180000
DTEND;TZID=Australia/Perth:20190314T210000
DTSTAMP:20190228T221133
CREATED:20190128T235501Z
LAST-MODIFIED:20190128T235501Z
UID:3312-1552586400-1552597200@www.royalaeroclubwa.com.au
SUMMARY:PPL Night Theory Courses
DESCRIPTION:\nPPL Systems: Feb 5\, 7 & 12. PPL Meteorology: Feb 14\, 19 & 21. PPL Human Factors: Feb 26\, 28 & Mar 5. PPL Flight Performance & Loading: Mar 7\, 12 & 14. PPL Aerodynamics: Mar 19\, 21 & 26. PPL Navigation: Mar 28\, Apr 2 & 4. \n
URL:https://www.royalaeroclubwa.com.au/event/ppl-night-theory-courses/2019-03-14/
LOCATION:Royal Aero Club of WA\, 41 Eagle Drive\, Jandakot\, Western Australia\, 6164\, Australia
CATEGORIES:Theory Training
END:VEVENT
BEGIN:VEVENT
DTSTART;VALUE=DATE:20190316
DTEND;VALUE=DATE:20190317
DTSTAMP:20190228T221133
CREATED:20190110T061934Z
LAST-MODIFIED:20190110T062019Z
UID:3194-1552694400-1552780799@www.royalaeroclubwa.com.au
SUMMARY:Murrayfield TigerMoth Flights available for a limited time only!
DESCRIPTION:\nOne day only – book early to avoid disappointment! \n
URL:https://www.royalaeroclubwa.com.au/event/murrayfield-tigermoth-flights-available-for-a-limited-time-only/
LOCATION:WA
ATTACH;FMTTYPE=image/jpeg:https://www.royalaeroclubwa.com.au/wp-content/uploads/2019/01/TigerMoth-Murrayfield.jpg
END:VEVENT
BEGIN:VEVENT
DTSTART;TZID=Australia/Perth:20190316T080000
DTEND;TZID=Australia/Perth:20190316T100000
DTSTAMP:20190228T221133
CREATED:20190208T040952Z
LAST-MODIFIED:20190208T040952Z
UID:3360-1552723200-1552730400@www.royalaeroclubwa.com.au
SUMMARY:Murray "Field Day"
DESCRIPTION:FREE BBQ Breakfast Get Together 08:00 – Scramble 08:30.\nContact Mick Harcourt: 0402 800 862 or mickh@iprimus.net.au to get involved! \n
URL:https://www.royalaeroclubwa.com.au/event/murray-field-day/
LOCATION:Murrayfield Aerodrome\, Lakes Road\, Mandurah\, WA\, 6207\, Australia
GEO:-32.5169933;115.888087
X-APPLE-STRUCTURED-LOCATION;VALUE=URI;X-ADDRESS=Murrayfield Aerodrome Lakes Road Mandurah WA 6207 Australia;X-APPLE-RADIUS=500;X-TITLE=Lakes Road:geo:115.888087,-32.5169933
CATEGORIES:Club Fly-in,Club Social Event
END:VEVENT
BEGIN:VEVENT
DTSTART;VALUE=DATE:20190318
DTEND;VALUE=DATE:20190324
DTSTAMP:20190228T221133
CREATED:20180914T055015Z
LAST-MODIFIED:20180928T012423Z
UID:2370-1552867200-1553385599@www.royalaeroclubwa.com.au
SUMMARY:2019 Australian Light Aircraft Championships
DESCRIPTION:\nThis is your chance to compete in Streamer Cutting\, Forced Landing\, Formation Flying\, Aerobatics\, Spot Landing or Flour Bombing Competitions against the best in Australia and New Zealand. Open to amateur pilots holding a minimum current GFPT/RPL and former professional pilots. All entrants are subject to the Rules of the Australian Light Aircraft Championships 2019. \nFor more information and entry forms contact Russell Philip\, clubcaptain@royalaeroclubwa.com.au. For Serpentine Airfield information contact Sport Aircraft Builders Club: Bill Dearle\, wjd1@iinet.net.au or Viv Harris\, viv@ezielectrical.com.au \nVisit http://www.royalaeroclubwa.com.au/content/page/2019-australian-light-aircraft-championships.html \n
URL:https://www.royalaeroclubwa.com.au/event/2019-australian-light-aircraft-championships/
LOCATION:Serpentine Airfield\, 286 Yangedi Road\, Hopelane\, WA\, Australia
GEO:-32.39525;115.87123
X-APPLE-STRUCTURED-LOCATION;VALUE=URI;X-ADDRESS=Serpentine Airfield 286 Yangedi Road Hopelane WA Australia;X-APPLE-RADIUS=500;X-TITLE=286 Yangedi Road:geo:115.87123,-32.39525
CATEGORIES:Club Flying Competition
END:VEVENT
BEGIN:VEVENT
DTSTART;TZID=Australia/Perth:20190319T180000
DTEND;TZID=Australia/Perth:20190319T210000
DTSTAMP:20190228T221133
CREATED:20190128T235501Z
LAST-MODIFIED:20190128T235501Z
UID:3313-1553018400-1553029200@www.royalaeroclubwa.com.au
SUMMARY:PPL Night Theory Courses
DESCRIPTION:\nPPL Systems: Feb 5\, 7 & 12. PPL Meteorology: Feb 14\, 19 & 21. PPL Human Factors: Feb 26\, 28 & Mar 5. PPL Flight Performance & Loading: Mar 7\, 12 & 14. PPL Aerodynamics: Mar 19\, 21 & 26. PPL Navigation: Mar 28\, Apr 2 & 4. \n
URL:https://www.royalaeroclubwa.com.au/event/ppl-night-theory-courses/2019-03-19/
LOCATION:Royal Aero Club of WA\, 41 Eagle Drive\, Jandakot\, Western Australia\, 6164\, Australia
CATEGORIES:Theory Training
END:VEVENT
BEGIN:VEVENT
DTSTART;TZID=Australia/Perth:20190321T180000
DTEND;TZID=Australia/Perth:20190321T210000
DTSTAMP:20190228T221133
CREATED:20190128T235501Z
LAST-MODIFIED:20190128T235501Z
UID:3314-1553191200-1553202000@www.royalaeroclubwa.com.au
SUMMARY:PPL Night Theory Courses
DESCRIPTION:\nPPL Systems: Feb 5\, 7 & 12. PPL Meteorology: Feb 14\, 19 & 21. PPL Human Factors: Feb 26\, 28 & Mar 5. PPL Flight Performance & Loading: Mar 7\, 12 & 14. PPL Aerodynamics: Mar 19\, 21 & 26. PPL Navigation: Mar 28\, Apr 2 & 4. \n
URL:https://www.royalaeroclubwa.com.au/event/ppl-night-theory-courses/2019-03-21/
LOCATION:Royal Aero Club of WA\, 41 Eagle Drive\, Jandakot\, Western Australia\, 6164\, Australia
CATEGORIES:Theory Training
END:VEVENT
BEGIN:VEVENT
DTSTART;TZID=Australia/Perth:20190326T180000
DTEND;TZID=Australia/Perth:20190326T210000
DTSTAMP:20190228T221133
CREATED:20190128T235501Z
LAST-MODIFIED:20190128T235501Z
UID:3315-1553623200-1553634000@www.royalaeroclubwa.com.au
SUMMARY:PPL Night Theory Courses
DESCRIPTION:\nPPL Systems: Feb 5\, 7 & 12. PPL Meteorology: Feb 14\, 19 & 21. PPL Human Factors: Feb 26\, 28 & Mar 5. PPL Flight Performance & Loading: Mar 7\, 12 & 14. PPL Aerodynamics: Mar 19\, 21 & 26. PPL Navigation: Mar 28\, Apr 2 & 4. \n
URL:https://www.royalaeroclubwa.com.au/event/ppl-night-theory-courses/2019-03-26/
LOCATION:Royal Aero Club of WA\, 41 Eagle Drive\, Jandakot\, Western Australia\, 6164\, Australia
CATEGORIES:Theory Training
END:VEVENT
BEGIN:VEVENT
DTSTART;TZID=Australia/Perth:20190328T180000
DTEND;TZID=Australia/Perth:20190328T210000
DTSTAMP:20190228T221133
CREATED:20190128T235501Z
LAST-MODIFIED:20190128T235501Z
UID:3316-1553796000-1553806800@www.royalaeroclubwa.com.au
SUMMARY:PPL Night Theory Courses
DESCRIPTION:\nPPL Systems: Feb 5\, 7 & 12. PPL Meteorology: Feb 14\, 19 & 21. PPL Human Factors: Feb 26\, 28 & Mar 5. PPL Flight Performance & Loading: Mar 7\, 12 & 14. PPL Aerodynamics: Mar 19\, 21 & 26. PPL Navigation: Mar 28\, Apr 2 & 4. \n
URL:https://www.royalaeroclubwa.com.au/event/ppl-night-theory-courses/2019-03-28/
LOCATION:Royal Aero Club of WA\, 41 Eagle Drive\, Jandakot\, Western Australia\, 6164\, Australia
CATEGORIES:Theory Training
END:VEVENT
END:VCALENDAR